BEGIN:VCALENDAR
VERSION:2.0
PRODID:-//ChamberMaster//Event Calendar 2.0//EN
METHOD:PUBLISH
X-PUBLISHED-TTL:P3D
REFRESH-INTERVAL:P3D
CALSCALE:GREGORIAN
BEGIN:VEVENT
DTSTART:20190719T140000Z
DTEND:20190719T170000Z
X-MICROSOFT-CDO-ALLDAYEVENT:FALSE
SUMMARY:Film\, Food & Fun Fridays
DESCRIPTION:For kids entering K-5th grade in Fall 2019. July 19 join us as we eat popcorn and watch the movie\, The Lego Movie   The Second Part! We'll have lunch at intermission\, a Bible lesson when the movie if over and wrap it all up with some super fun games! Drop-In only\, no registration needed!
X-ALT-DESC;FMTTYPE=text/html:For kids entering K-5th grade in Fall 2019. July 19 join us as we eat popcorn and watch the movie\, The Lego Movie &ndash\; The Second Part! We&rsquo\;ll have lunch at intermission\, a Bible lesson when the movie if over and wrap it all up with some super fun games! Drop-In only\, no registration needed!
LOCATION:The Lakeway Church 2203 Lakeway Blvd. Lakeway\, TX 78734
UID:e.2123.9908
SEQUENCE:3
DTSTAMP:20260422T165714Z
URL:https://laketravischamberfest.com/events/details/film-food-fun-fridays-07-19-2019-9908
END:VEVENT

END:VCALENDAR
