BEGIN:VCALENDAR
VERSION:2.0
PRODID:-//ChamberMaster//Event Calendar 2.0//EN
METHOD:PUBLISH
X-PUBLISHED-TTL:P3D
REFRESH-INTERVAL:P3D
CALSCALE:GREGORIAN
BEGIN:VEVENT
DTSTART:20190614T140000Z
DTEND:20190614T170000Z
X-MICROSOFT-CDO-ALLDAYEVENT:FALSE
SUMMARY:Film\, Food & Fun Fridays
DESCRIPTION:For kids entering K-5th grade in Fall 2019. June 14 join us as we eat popcorn and watch the movie\, Mary Poppins Returns! We'll have lunch at intermission\, a Bible lesson when the movie if over and wrap it all up with some super fun games! Drop-In only\, no registration needed!
X-ALT-DESC;FMTTYPE=text/html:For kids entering K-5th grade in Fall 2019. June 14 join us as we eat popcorn and watch the movie\, Mary Poppins Returns! We&rsquo\;ll have lunch at intermission\, a Bible lesson when the movie if over and wrap it all up with some super fun games! Drop-In only\, no registration needed!
LOCATION:The Lakeway Church 2203 Lakeway Blvd. Lakeway\, TX 78734
UID:e.2123.9906
SEQUENCE:3
DTSTAMP:20260422T135234Z
URL:https://laketravischamberfest.com/events/details/film-food-fun-fridays-06-14-2019-9906
END:VEVENT

END:VCALENDAR
