BEGIN:VCALENDAR
VERSION:2.0
PRODID:-//ChamberMaster//Event Calendar 2.0//EN
METHOD:PUBLISH
X-PUBLISHED-TTL:P3D
REFRESH-INTERVAL:P3D
CALSCALE:GREGORIAN
BEGIN:VEVENT
DTSTART:20180917T153000Z
DTEND:20180917T163000Z
X-MICROSOFT-CDO-ALLDAYEVENT:FALSE
SUMMARY:Fall Prevention Workshop
DESCRIPTION:Fall Prevention Workshop - Monday\, September 17th at 10:30am and Monday\, September 24th at 10:30am - Led by Body Balance Physical Therapy\, this workshop will demonstrate exercises to improve balance and teach strategies for preventing falls.
X-ALT-DESC;FMTTYPE=text/html:Fall Prevention Workshop - Monday\, September 17th at 10:30am and Monday\, September 24th at 10:30am - Led by Body Balance Physical Therapy\, this workshop will demonstrate exercises to improve balance and teach strategies for preventing falls.
LOCATION:Lake Travis Community Library 1938 Lohmans Crossing Austin\, TX 78734
UID:e.2123.9699
SEQUENCE:3
DTSTAMP:20260421T232904Z
URL:https://laketravischamberfest.com/events/details/fall-prevention-workshop-9699
END:VEVENT

END:VCALENDAR
