BEGIN:VCALENDAR
VERSION:2.0
PRODID:-//ChamberMaster//Event Calendar 2.0//EN
METHOD:PUBLISH
X-PUBLISHED-TTL:P3D
REFRESH-INTERVAL:P3D
CALSCALE:GREGORIAN
BEGIN:VEVENT
DTSTART:20171109T013000Z
DTEND:20171109T033000Z
X-MICROSOFT-CDO-ALLDAYEVENT:FALSE
SUMMARY:Faculty Concert: Natalie Teodori\, harpist
DESCRIPTION:Sarofim School of Fine Arts' Music Department is proud to present Southwestern University faculty member\, Natalie Teodori\, harpist.
X-ALT-DESC;FMTTYPE=text/html:Sarofim School of Fine Arts&rsquo\; Music Department is proud to present Southwestern University faculty member\, Natalie Teodori\, harpist.
LOCATION:Caldwell-Carvey Foyer\, Southwestern University's Sarofim School of Fine Arts
UID:e.2123.9476
SEQUENCE:3
DTSTAMP:20260421T083456Z
URL:https://laketravischamberfest.com/events/details/faculty-concert-natalie-teodori-harpist-9476
END:VEVENT

END:VCALENDAR
