BEGIN:VCALENDAR
VERSION:2.0
PRODID:-//ChamberMaster//Event Calendar 2.0//EN
METHOD:PUBLISH
X-PUBLISHED-TTL:P3D
REFRESH-INTERVAL:P3D
CALSCALE:GREGORIAN
BEGIN:VEVENT
DTSTART:20180217T210000Z
DTEND:20180217T230000Z
X-MICROSOFT-CDO-ALLDAYEVENT:FALSE
SUMMARY:Faculty Concert: Jessica\, Gilliam-Valls
DESCRIPTION:The Sarofim School of Fine Arts' Music Department is proud to present professor and double bassist\, Jessica Gilliam-Valls.
X-ALT-DESC;FMTTYPE=text/html:The Sarofim School of Fine Arts&rsquo\; Music Department is proud to present professor and double bassist\, Jessica Gilliam-Valls.
LOCATION:Southwestern University's Caldwell-Carvey Foyer\, E. Ruttersville Dr\, Georgetown\, TX\, 78626.
UID:e.2123.9552
SEQUENCE:3
DTSTAMP:20260421T132411Z
URL:https://laketravischamberfest.com/events/details/faculty-concert-jessica-gilliam-valls-9552
END:VEVENT

END:VCALENDAR
