BEGIN:VCALENDAR
VERSION:2.0
PRODID:-//ChamberMaster//Event Calendar 2.0//EN
METHOD:PUBLISH
X-PUBLISHED-TTL:P3D
REFRESH-INTERVAL:P3D
CALSCALE:GREGORIAN
BEGIN:VEVENT
DTSTART:20180425T003000Z
DTEND:20180425T020000Z
X-MICROSOFT-CDO-ALLDAYEVENT:FALSE
SUMMARY:Faculty Concert Featuring David Asbury & Bruce Cain
DESCRIPTION:The Sarofim School of Fine Arts' Music Department is excited to welcome. Southwestern University faculty members to perform on April 24th at 7:30pm. Come enjoy an evening with Chair of the Music Department and guitarist Dr. David Asbury and baritone Dr. Bruce Cain. This event is free and open to the public. For more information visit www.southwestern.edu/sarofim/
X-ALT-DESC;FMTTYPE=text/html:The Sarofim School of Fine Arts&rsquo\; Music Department is excited to welcome. Southwestern University faculty members to perform on April 24th at 7:30pm. Come enjoy an evening with Chair of the Music Department and guitarist Dr. David Asbury and baritone Dr. Bruce Cain. This event is free and open to the public. For more information visit www.southwestern.edu/sarofim/
LOCATION:Southwestern University's Alma Thomas Fine Arts Center. 1001 E. University Avenue\, Georgetown\, TX 78626
UID:e.2123.9588
SEQUENCE:3
DTSTAMP:20260421T161748Z
URL:https://laketravischamberfest.com/events/details/faculty-concert-featuring-david-asbury-bruce-cain-9588
END:VEVENT

END:VCALENDAR
