BEGIN:VCALENDAR
VERSION:2.0
PRODID:-//ChamberMaster//Event Calendar 2.0//EN
METHOD:PUBLISH
X-PUBLISHED-TTL:P3D
REFRESH-INTERVAL:P3D
CALSCALE:GREGORIAN
BEGIN:VEVENT
DTSTART:20191116T200000Z
DTEND:20191124T023000Z
X-MICROSOFT-CDO-ALLDAYEVENT:FALSE
SUMMARY:Elf Jr. the Musical
DESCRIPTION:TexARTS presents Elf Jr. the Musical! Come enjoy this hilarious show as you follow Buddy the elf on his journey of self discovery.
X-ALT-DESC;FMTTYPE=text/html:TexARTS presents Elf Jr. the Musical! Come enjoy this hilarious show as you follow Buddy the elf on his journey of self discovery.
LOCATION:TexARTS 2300 Lohman's Spur Road Suite 160 Austin\, TX 78734
UID:e.2123.10027
SEQUENCE:3
DTSTAMP:20260422T211311Z
URL:https://laketravischamberfest.com/events/details/elf-jr-the-musical-10027
END:VEVENT

END:VCALENDAR
