BEGIN:VCALENDAR
VERSION:2.0
PRODID:-//ChamberMaster//Event Calendar 2.0//EN
METHOD:PUBLISH
X-PUBLISHED-TTL:P3D
REFRESH-INTERVAL:P3D
CALSCALE:GREGORIAN
BEGIN:VEVENT
DTSTART:20180823T210000Z
DTEND:20180824T020000Z
X-MICROSOFT-CDO-ALLDAYEVENT:FALSE
SUMMARY:El Gaucho Winery Thursday Happy Hour
DESCRIPTION:Unwind with a glass of our premium Argentinian wine during happy hour.  $1 off wines by the glass and $3 off bottles all night on Thursdays.
X-ALT-DESC;FMTTYPE=text/html:Unwind with a glass of our premium Argentinian wine during happy hour.&nbsp\; $1 off wines by the glass and $3 off bottles all night on Thursdays.
LOCATION:El Gaucho Winery\, 21301 Kathy Ln\, Spicewood\, Texas\, 78669
UID:e.2123.9703
SEQUENCE:3
DTSTAMP:20260421T222134Z
URL:https://laketravischamberfest.com/events/details/el-gaucho-winery-thursday-happy-hour-9703
END:VEVENT

END:VCALENDAR
