BEGIN:VCALENDAR
VERSION:2.0
PRODID:-//ChamberMaster//Event Calendar 2.0//EN
METHOD:PUBLISH
X-PUBLISHED-TTL:P3D
REFRESH-INTERVAL:P3D
CALSCALE:GREGORIAN
BEGIN:VEVENT
DTSTART:20181006T000000Z
DTEND:20181006T020000Z
X-MICROSOFT-CDO-ALLDAYEVENT:FALSE
SUMMARY:El Gaucho Winery Fall Wine Class Series: Malbecs Around the World
DESCRIPTION:Join El Gaucho Owner and Sommelier Eugenia Sewell October 5th for Malbecs Around the World as she takes you on a tour of Malbecs from France\, Spain\, California and Texas. Guests will learn about the history of the Malbec grape\, how it became Argentina's signature grape and why its popularity continues to grow. The class is $95 per person. To make a reservation for the El Gaucho Fall Wine Series classes\, please call the winery at 512-382-0620 or email info@elgauchowinery.com.
X-ALT-DESC;FMTTYPE=text/html:Join El Gaucho Owner and Sommelier Eugenia Sewell October 5th for Malbecs Around the World as she takes you on a tour of Malbecs from France\, Spain\, California and Texas. Guests will learn about the history of the Malbec grape\, how it became Argentina&rsquo\;s signature grape and why its popularity continues to grow. The class is $95 per person. To make a reservation for the El Gaucho Fall Wine Series classes\, please call the winery at 512-382-0620 or email info@elgauchowinery.com.
LOCATION:El Gaucho Winery 21301 Kathy Ln\, Spicewood\, TX 78669
UID:e.2123.9734
SEQUENCE:3
DTSTAMP:20260422T011931Z
URL:https://laketravischamberfest.com/events/details/el-gaucho-winery-fall-wine-class-series-malbecs-around-the-world-9734
END:VEVENT

END:VCALENDAR
