BEGIN:VCALENDAR
VERSION:2.0
PRODID:-//ChamberMaster//Event Calendar 2.0//EN
METHOD:PUBLISH
X-PUBLISHED-TTL:P3D
REFRESH-INTERVAL:P3D
CALSCALE:GREGORIAN
BEGIN:VEVENT
DTSTART:20181028T000000Z
DTEND:20181028T020000Z
X-MICROSOFT-CDO-ALLDAYEVENT:FALSE
SUMMARY:El Gaucho Winery Fall Wine Class Series: Discovering Argentinian Cabernets
DESCRIPTION:Discovering Argentinian Cabernets is the class focus on October 27th. Cabernets from Argentina are considered " macho" because they are full bodied and pack a punch. Guests will explore the diversity of Argentine Cabernets from vineyards in Patagonia in the south\, to the province of Salta in the north. $95 per person. To make a reservation for the El Gaucho Fall Wine Series classes\, please call the winery at 512-382-0620 or email info@elgauchowinery.com.
X-ALT-DESC;FMTTYPE=text/html:Discovering Argentinian Cabernets is the class focus on October 27th. Cabernets from Argentina are considered &ldquo\; macho&rdquo\; because they are full bodied and pack a punch. Guests will explore the diversity of Argentine Cabernets from vineyards in Patagonia in the south\, to the province of Salta in the north. $95 per person. To make a reservation for the El Gaucho Fall Wine Series classes\, please call the winery at 512-382-0620 or email info@elgauchowinery.com.
LOCATION:El Gaucho Winery 21301 Kathy Ln\, Spicewood\, TX 78669
UID:e.2123.9735
SEQUENCE:3
DTSTAMP:20260422T010640Z
URL:https://laketravischamberfest.com/events/details/el-gaucho-winery-fall-wine-class-series-discovering-argentinian-cabernets-9735
END:VEVENT

END:VCALENDAR
