BEGIN:VCALENDAR
VERSION:2.0
PRODID:-//ChamberMaster//Event Calendar 2.0//EN
METHOD:PUBLISH
X-PUBLISHED-TTL:P3D
REFRESH-INTERVAL:P3D
CALSCALE:GREGORIAN
BEGIN:VEVENT
DTSTART:20180825T233000Z
DTEND:20180826T030000Z
X-MICROSOFT-CDO-ALLDAYEVENT:FALSE
SUMMARY:El Gaucho August Asado Dinner
DESCRIPTION:Our anticipated Saturday Evening Asado will be held on Saturday\, August 25th! This Argentine style BBQ always has a great crowd of guests enjoying the delicious food\, our excellent wines from Argentina\, live music and the relaxing ambiance of our winery. We will have a wonderful music group playing traditional Argentine tango music and special dance performance. Everyone is invited to dance and this event is family friendly! There are no entry tickets\, but reservations are appreciated by calling 512-382-0620.
X-ALT-DESC;FMTTYPE=text/html:Our anticipated Saturday Evening Asado will be held on Saturday\, August 25th! This Argentine style BBQ always has a great crowd of guests enjoying the delicious food\, our excellent wines from Argentina\, live music and the relaxing ambiance of our winery. We will have a wonderful music group playing traditional Argentine tango music and special dance performance. Everyone is invited to dance and this event is family friendly! There are no entry tickets\, but reservations are appreciated by calling 512-382-0620.
LOCATION:El Gaucho Winery\, 21301 Kathy Ln\, Spicewood\, Texas\, 78669
UID:e.2123.9702
SEQUENCE:3
DTSTAMP:20260421T234701Z
URL:https://laketravischamberfest.com/events/details/el-gaucho-august-asado-dinner-9702
END:VEVENT

END:VCALENDAR
