BEGIN:VCALENDAR
VERSION:2.0
PRODID:-//ChamberMaster//Event Calendar 2.0//EN
METHOD:PUBLISH
X-PUBLISHED-TTL:P3D
REFRESH-INTERVAL:P3D
CALSCALE:GREGORIAN
BEGIN:VEVENT
DTSTART:20180221T173000Z
DTEND:20180221T190000Z
X-MICROSOFT-CDO-ALLDAYEVENT:FALSE
SUMMARY:Effective Communication with Persons with Dementia
DESCRIPTION:SPEAKER: Stephen Catoe\, C.A.L.M.\, C.A.D.\, C.D.P.\, C.V.W.\, C.P.A.C. Memory Care Director\, Alzheimer's Texas Changes in the ability to communicate can vary and are based on the person and where they are in the disease process. Anticipating these changes and knowing how to respond can help everyone communicate more effectively. Join us to learn tips for successful communication at all stages of Alzheimer's disease or another dementia. A light lunch will be provided. Limited seating available. RSVP to 512-402-1800. Coming to Lakeway this summer\, Belmont Village is a premier Senior Living provider. Call today to learn more.
X-ALT-DESC;FMTTYPE=text/html:SPEAKER: Stephen Catoe\, C.A.L.M.\, C.A.D.\, C.D.P.\, C.V.W.\, C.P.A.C. Memory Care Director\, Alzheimer&rsquo\;s Texas Changes in the ability to communicate can vary and are based on the person and where they are in the disease process. Anticipating these changes and knowing how to respond can help everyone communicate more effectively. Join us to learn tips for successful communication at all stages of Alzheimer&rsquo\;s disease or another dementia. A light lunch will be provided. Limited seating available. RSVP to 512-402-1800. Coming to Lakeway this summer\, Belmont Village is a premier Senior Living provider. Call today to learn more.
LOCATION:Belmont Village Lakeway Info Center 900 Ranch Road 620 South\, Suite A-100 (Located at Lakeway Commons)
UID:e.2123.9570
SEQUENCE:3
DTSTAMP:20260421T131831Z
URL:https://laketravischamberfest.com/events/details/effective-communication-with-persons-with-dementia-9570
END:VEVENT

END:VCALENDAR
