BEGIN:VCALENDAR
VERSION:2.0
PRODID:-//ChamberMaster//Event Calendar 2.0//EN
METHOD:PUBLISH
X-PUBLISHED-TTL:P3D
REFRESH-INTERVAL:P3D
CALSCALE:GREGORIAN
BEGIN:VEVENT
DTSTART:20180713T210000Z
DTEND:20180713T220000Z
X-MICROSOFT-CDO-ALLDAYEVENT:FALSE
SUMMARY:Eddie Collins and Max Zimmet Duo
DESCRIPTION:Eddie Collins and Max Zimmet Duo - Friday\, July 13th at 4pm - Eddie and Max team up on acoustic guitar\, mandolin\, banjo\, and vocals\, playing standards and originals of bluegrass\, classic country\, rockabilly\, and western swing!
X-ALT-DESC;FMTTYPE=text/html:Eddie Collins and Max Zimmet Duo - Friday\, July 13th at 4pm - Eddie and Max team up on acoustic guitar\, mandolin\, banjo\, and vocals\, playing standards and originals of bluegrass\, classic country\, rockabilly\, and western swing!
LOCATION:Lake Travis Community Library 1938 Lohmans Crossing Austin\, Texas 78734
UID:e.2123.9678
SEQUENCE:3
DTSTAMP:20260421T205950Z
URL:https://laketravischamberfest.com/events/details/eddie-collins-and-max-zimmet-duo-9678
END:VEVENT

END:VCALENDAR
