BEGIN:VCALENDAR
VERSION:2.0
PRODID:-//ChamberMaster//Event Calendar 2.0//EN
METHOD:PUBLISH
X-PUBLISHED-TTL:P3D
REFRESH-INTERVAL:P3D
CALSCALE:GREGORIAN
BEGIN:VEVENT
DTSTART:20181019T210000Z
DTEND:20181019T220000Z
X-MICROSOFT-CDO-ALLDAYEVENT:FALSE
SUMMARY:Eddie Collins and Max Zimmet Duo
DESCRIPTION:The Austin-based duo of Eddie and Max team up on acoustic guitar\, mandolin\, banjo\, and vocals\, playing standards and originals of bluegrass\, classic country\, rockabilly\, and western swing! Sing and dance along with us on Friday\, October 19th at 4pm.
X-ALT-DESC;FMTTYPE=text/html:The Austin-based duo of Eddie and Max team up on acoustic guitar\, mandolin\, banjo\, and vocals\, playing standards and originals of bluegrass\, classic country\, rockabilly\, and western swing! Sing and dance along with us on Friday\, October 19th at 4pm.
LOCATION:Lake Travis Community Library 1938 Lohmans Crossing Austin\, Texas 78734
UID:e.2123.9722
SEQUENCE:3
DTSTAMP:20260422T010917Z
URL:https://laketravischamberfest.com/events/details/eddie-collins-and-max-zimmet-duo-10-19-2018-9722
END:VEVENT

END:VCALENDAR
