BEGIN:VCALENDAR
VERSION:2.0
PRODID:-//ChamberMaster//Event Calendar 2.0//EN
METHOD:PUBLISH
X-PUBLISHED-TTL:P3D
REFRESH-INTERVAL:P3D
CALSCALE:GREGORIAN
BEGIN:VEVENT
DTSTART:20180331T160000Z
DTEND:20180331T190000Z
X-MICROSOFT-CDO-ALLDAYEVENT:FALSE
SUMMARY:Easter Egg Hunts
DESCRIPTION:Invite your friends! We'll have food\, bounce houses\, petting zoo\, face painting & THOUSANDS of eggs! FREE! Hunts by age group: 0-2 yrs: 11:00-11:20 3-4 yrs: 11:25-11:45 5-6 yrs: 11:50-12:10 7-8 yrs: 12:15-12:35 9-12 yrs: 12:40-1:00
X-ALT-DESC;FMTTYPE=text/html:Invite your friends! We&rsquo\;ll have food\, bounce houses\, petting zoo\, face painting &amp\; THOUSANDS of eggs! FREE! Hunts by age group: 0-2 yrs: 11:00-11:20 3-4 yrs: 11:25-11:45 5-6 yrs: 11:50-12:10 7-8 yrs: 12:15-12:35 9-12 yrs: 12:40-1:00
LOCATION:The Lakeway Church 2203 Lakeway Blvd. Lakeway\, TX 78734
UID:e.2123.9596
SEQUENCE:3
DTSTAMP:20260421T144223Z
URL:https://laketravischamberfest.com/events/details/easter-egg-hunts-9596
END:VEVENT

END:VCALENDAR
