BEGIN:VCALENDAR
VERSION:2.0
PRODID:-//ChamberMaster//Event Calendar 2.0//EN
METHOD:PUBLISH
X-PUBLISHED-TTL:P3D
REFRESH-INTERVAL:P3D
CALSCALE:GREGORIAN
BEGIN:VEVENT
DTSTART:20190421T220000Z
DTEND:20190422T023000Z
X-MICROSOFT-CDO-ALLDAYEVENT:FALSE
SUMMARY:Easter Dinner at Lakeway Resort and Spa
DESCRIPTION:Lakeway Resort and Spa invites guests to enjoy an Easter Brunch tradition with signature restaurant\, TR\, on Sunday\, April 21\, 2019 from 11 a.m. to 2 p.m. Served in the Vistas ballroom overlooking Lake Travis\, a special brunch menu offers a decadent selection to celebrate the season\, with a dinner option later in the evening. Easter Dinner will be presented in TR from 5 to 9:30 p.m. with a chef-inspired 3-course menu that will include selections like Clam Chowder Soup\, Cheese Tortellini with Wild Mushroom\, Spinach and Creamy Tomato Sauce\, or Oven Roasted Prime Rib with horseradish cream. Sweet temptations of Creamy Banana Pudding or Texas Peach Cobbler top the dinner experience. Dinner is available for $35 per plate. Reservations are recommended for Easter Brunch and Dinner and may be made by calling (512)-261-7323 or online.
X-ALT-DESC;FMTTYPE=text/html:Lakeway Resort and Spa invites guests to enjoy an Easter Brunch tradition with signature restaurant\, TR\, on Sunday\, April 21\, 2019 from 11 a.m. to 2 p.m. Served in the Vistas ballroom overlooking Lake Travis\, a special brunch menu offers a decadent selection to celebrate the season\, with a dinner option later in the evening. Easter Dinner will be presented in TR from 5 to 9:30 p.m. with a chef-inspired 3-course menu that will include selections like Clam Chowder Soup\, Cheese Tortellini with Wild Mushroom\, Spinach and Creamy Tomato Sauce\, or Oven Roasted Prime Rib with horseradish cream. Sweet temptations of Creamy Banana Pudding or Texas Peach Cobbler top the dinner experience. Dinner is available for $35 per plate. Reservations are recommended for Easter Brunch and Dinner and may be made by calling (512)-261-7323 or online.
LOCATION:101 Lakeway Drive\, Lakeway Texas 78734
UID:e.2123.9846
SEQUENCE:3
DTSTAMP:20260422T105809Z
URL:https://laketravischamberfest.com/events/details/easter-dinner-at-lakeway-resort-and-spa-9846
END:VEVENT

END:VCALENDAR
