BEGIN:VCALENDAR
VERSION:2.0
PRODID:-//ChamberMaster//Event Calendar 2.0//EN
METHOD:PUBLISH
X-PUBLISHED-TTL:P3D
REFRESH-INTERVAL:P3D
CALSCALE:GREGORIAN
BEGIN:VEVENT
DTSTART:20190421T160000Z
DTEND:20190421T190000Z
X-MICROSOFT-CDO-ALLDAYEVENT:FALSE
SUMMARY:Easter Brunch at Lakeway Resort and Spa
DESCRIPTION:Lakeway Resort and Spa invites guests to enjoy an Easter Brunch tradition with signature restaurant\, TR\, on Sunday\, April 21\, 2019 from 11 a.m. to 2 p.m. Served in the Vistas ballroom overlooking Lake Travis\, a special brunch menu offers a decadent selection to celebrate the season\, with a dinner option later in the evening. Easter Brunch includes a Made-to-Order-Omelet Station\, Robby's Famous Pancakes\, or Cambridge House Smoked Salmon for a savory selection. Adults dine for $65 per plate\, children aged 6-12 for $30 and children aged 2-5 for $15 per plate. Reservations are recommended for Easter Brunch and Dinner and may be made by calling (512)-261-7323 or online.
X-ALT-DESC;FMTTYPE=text/html:Lakeway Resort and Spa invites guests to enjoy an Easter Brunch tradition with signature restaurant\, TR\, on Sunday\, April 21\, 2019 from 11 a.m. to 2 p.m. Served in the Vistas ballroom overlooking Lake Travis\, a special brunch menu offers a decadent selection to celebrate the season\, with a dinner option later in the evening. Easter Brunch includes a Made-to-Order-Omelet Station\, Robby&rsquo\;s Famous Pancakes\, or Cambridge House Smoked Salmon for a savory selection. Adults dine for $65 per plate\, children aged 6-12 for $30 and children aged 2-5 for $15 per plate. Reservations are recommended for Easter Brunch and Dinner and may be made by calling (512)-261-7323 or online.
LOCATION:Lakeway Resort and Spa
UID:e.2123.9848
SEQUENCE:3
DTSTAMP:20260422T110255Z
URL:https://laketravischamberfest.com/events/details/easter-brunch-at-lakeway-resort-and-spa-04-21-2019-9848
END:VEVENT

END:VCALENDAR
