BEGIN:VCALENDAR
VERSION:2.0
PRODID:-//ChamberMaster//Event Calendar 2.0//EN
METHOD:PUBLISH
X-PUBLISHED-TTL:P3D
REFRESH-INTERVAL:P3D
CALSCALE:GREGORIAN
BEGIN:VEVENT
DTSTART:20190401T130000Z
DTEND:20190430T220000Z
X-MICROSOFT-CDO-ALLDAYEVENT:FALSE
SUMMARY:Double-chin got you looking down? Look up to neck lift!
DESCRIPTION:Tighten your skin with FaceTite\, the best minimally-invasive option with no downtime or big incisions. Call Dr. Aisha White today to schedule a consultation\, and you will receive 40% off FaceTite from now until April 30.
X-ALT-DESC;FMTTYPE=text/html:Tighten your skin with FaceTite\, the best minimally-invasive option with no downtime or big incisions. Call Dr. Aisha White today to schedule a consultation\, and you will receive 40% off FaceTite from now until April 30.
LOCATION:Quintessence Plastic Surgery 6611 River Place Blvd\, Suite 201 Austin\, Texas 78730
UID:e.2123.9877
SEQUENCE:3
DTSTAMP:20260422T110530Z
URL:https://laketravischamberfest.com/events/details/double-chin-got-you-looking-down-look-up-to-neck-lift-9877
END:VEVENT

END:VCALENDAR
