BEGIN:VCALENDAR
VERSION:2.0
PRODID:-//ChamberMaster//Event Calendar 2.0//EN
METHOD:PUBLISH
X-PUBLISHED-TTL:P3D
REFRESH-INTERVAL:P3D
CALSCALE:GREGORIAN
BEGIN:VEVENT
DTSTART:20180908T230000Z
DTEND:20180909T020000Z
X-MICROSOFT-CDO-ALLDAYEVENT:FALSE
SUMMARY:Discover El Gaucho Winery with $1 Glasses of Malbec Rosé
DESCRIPTION:El Gaucho Winery\, a relaxed rustic-luxe spot nestled in the lush terrain of the Texas Hill Country\, is hosting Discover El Gaucho Winery\, a sip and socialize affair for guests to learn more about their award-winning Argentinian wines\, winery\, and the culture of Argentina. Discover El Gaucho Winery will be held September 8 from 6 p.m. to 9 p.m. and will feature $1 glasses of Malbec Ros  (limit 2 glasses per person)\, Argentine Asado Dinner\, and live music. El Gaucho is located at 21301 Kathy Lane in Spicewood\, about 40 minutes from downtown Austin. For more information\, call 512-382-0620 or go to www.elgauchowinery.com.
X-ALT-DESC;FMTTYPE=text/html:El Gaucho Winery\, a relaxed rustic-luxe spot nestled in the lush terrain of the Texas Hill Country\, is hosting Discover El Gaucho Winery\, a sip and socialize affair for guests to learn more about their award-winning Argentinian wines\, winery\, and the culture of Argentina. Discover El Gaucho Winery will be held September 8 from 6 p.m. to 9 p.m. and will feature $1 glasses of Malbec Ros&eacute\; (limit 2 glasses per person)\, Argentine Asado Dinner\, and live music. El Gaucho is located at 21301 Kathy Lane in Spicewood\, about 40 minutes from downtown Austin. For more information\, call 512-382-0620 or go to www.elgauchowinery.com.
LOCATION:21301 Kathy Ln Spicewood\, TX 78669
UID:e.2123.9706
SEQUENCE:3
DTSTAMP:20260421T233834Z
URL:https://laketravischamberfest.com/events/details/discover-el-gaucho-winery-with-1-glasses-of-malbec-ros&#233;-9706
END:VEVENT

END:VCALENDAR
