BEGIN:VCALENDAR
VERSION:2.0
PRODID:-//ChamberMaster//Event Calendar 2.0//EN
METHOD:PUBLISH
X-PUBLISHED-TTL:P3D
REFRESH-INTERVAL:P3D
CALSCALE:GREGORIAN
BEGIN:VEVENT
DTSTART:20210317T190000Z
DTEND:20210317T200000Z
X-MICROSOFT-CDO-ALLDAYEVENT:FALSE
SUMMARY:Dinosaur George
DESCRIPTION:Dinosaur George Wednesday\, March 17th at 2pm Dinosaur George is back with a special program on Ancient Sea Creatures! We all love dinosaurs\, but did you know that the oceans were filled with strange and unusual creatures? From the deadly sea-scorpion\, to gentle giant fish\, to the largest shark that ever lived\, Dinosaur George will teach new facts and introduce you to some amazing sea monsters. You will never look at your goldfish the same way again! Register now! https://zoom.us/meeting/register/tJwsduuqrzgrEtC1KbGWbVGlhB_cMy_MAYCS?fbclid=IwAR3I5vJA5fxAM_RHln638sfna9Nc9eciL1AmxzCLqpudtoKwiGux_p4rl5o
X-ALT-DESC;FMTTYPE=text/html:Dinosaur George Wednesday\, March 17th at 2pm Dinosaur George is back with a special program on Ancient Sea Creatures! We all love dinosaurs\, but did you know that the oceans were filled with strange and unusual creatures? From the deadly sea-scorpion\, to gentle giant fish\, to the largest shark that ever lived\, Dinosaur George will teach new facts and introduce you to some amazing sea monsters. You will never look at your goldfish the same way again! Register now! https://zoom.us/meeting/register/tJwsduuqrzgrEtC1KbGWbVGlhB_cMy_MAYCS?fbclid=IwAR3I5vJA5fxAM_RHln638sfna9Nc9eciL1AmxzCLqpudtoKwiGux_p4rl5o
LOCATION:Online program on Zoom! Register now! https://zoom.us/meeting/register/tJwsduuqrzgrEtC1KbGWbVGlhB_cMy_MAYCS?fbclid=IwAR3I5vJA5fxAM_RHln638sfna9Nc9eciL1AmxzCLqpudtoKwiGux_p4rl5o
UID:e.2123.10348
SEQUENCE:3
DTSTAMP:20260423T212019Z
URL:https://laketravischamberfest.com/events/details/dinosaur-george-10348
END:VEVENT

END:VCALENDAR
