BEGIN:VCALENDAR
VERSION:2.0
PRODID:-//ChamberMaster//Event Calendar 2.0//EN
METHOD:PUBLISH
X-PUBLISHED-TTL:P3D
REFRESH-INTERVAL:P3D
CALSCALE:GREGORIAN
BEGIN:VEVENT
DTSTART:20231004T160000Z
DTEND:20231004T180000Z
X-MICROSOFT-CDO-ALLDAYEVENT:FALSE
SUMMARY:Dementia Educational Series: Engaging People with Dementia in Enriching Activities
DESCRIPTION:Join us for an informative\, monthly educational series about the most effective\, evidence-based practices for managing the day-to-day care of your loved one with dementia. We'll explore effective methods for assisting yourself and family members in developing clear goals of care for individuals with dementia\, so that the care they receive is consistent with their wishes.
X-ALT-DESC;FMTTYPE=text/html:Join us for an informative\, monthly educational series about the most effective\, evidence-based practices for managing the day-to-day care of your loved one with dementia. We&#39\;ll explore effective methods for assisting yourself and family members in developing clear goals of care for individuals with dementia\, so that the care they receive is consistent with their wishes.&nbsp\;
LOCATION:Belmont Village Lakeway 107 Bella Montagna Circle Lakeway\, TX 78734
UID:e.2123.11774
SEQUENCE:3
DTSTAMP:20260422T222917Z
URL:https://laketravischamberfest.com/events/details/dementia-educational-series-engaging-people-with-dementia-in-enriching-activities-11774
END:VEVENT

END:VCALENDAR
