BEGIN:VCALENDAR
VERSION:2.0
PRODID:-//ChamberMaster//Event Calendar 2.0//EN
METHOD:PUBLISH
X-PUBLISHED-TTL:P3D
REFRESH-INTERVAL:P3D
CALSCALE:GREGORIAN
BEGIN:VEVENT
DTSTART:20180224T190000Z
DTEND:20180224T210000Z
X-MICROSOFT-CDO-ALLDAYEVENT:FALSE
SUMMARY:Dare to Prepare: AAA Teen Driver Workshop
DESCRIPTION:Dare to Prepare: AAA Teen Driver Workshop - Saturday\, February 24th at 1pm - Join AAA for an educational workshop designed to walk pre-permit teens and their parents through important life-saving topics. Register at aaa.com/safety4teens.
X-ALT-DESC;FMTTYPE=text/html:Dare to Prepare: AAA Teen Driver Workshop - Saturday\, February 24th at 1pm - Join AAA for an educational workshop designed to walk pre-permit teens and their parents through important life-saving topics. Register at aaa.com/safety4teens.
LOCATION:Lake Travis Community Library 1938 Lohmans Crossing Austin\, Texas 78734
UID:e.2123.9543
SEQUENCE:3
DTSTAMP:20260421T132447Z
URL:https://laketravischamberfest.com/events/details/dare-to-prepare-aaa-teen-driver-workshop-02-24-2018-9543
END:VEVENT

END:VCALENDAR
