BEGIN:VCALENDAR
VERSION:2.0
PRODID:-//ChamberMaster//Event Calendar 2.0//EN
METHOD:PUBLISH
X-PUBLISHED-TTL:P3D
REFRESH-INTERVAL:P3D
CALSCALE:GREGORIAN
BEGIN:VEVENT
DTSTART:20210215T200000Z
DTEND:20210219T233000Z
X-MICROSOFT-CDO-ALLDAYEVENT:FALSE
SUMMARY:Dance Break: Spring Break Musical Theater Dance Intensive
DESCRIPTION:The TexARTS Academy presents Dance Break: A Spring Break Musical Theater Dance Intensive. This dance intensive is a weeklong dive into classic and contemporary musical theater dance. Each day\, classes will focus a different show and students will be taught techniques needed to dance combinations in that show's particular style. Join us for a week of the most famous dance breaks! Students\, ages 11+ must register with the TexARTS Academy Office in advance. For more information\, or to register please visit www.tex-arts.org or call 512-852-9079 x104
X-ALT-DESC;FMTTYPE=text/html:The TexARTS Academy presents Dance Break: A Spring Break Musical Theater Dance Intensive. This dance intensive is a weeklong dive into classic and contemporary musical theater dance. Each day\, classes will focus a different show and students will be taught techniques needed to dance combinations in that show&#39\;s particular style. Join us for a week of the most famous dance breaks! Students\, ages 11+ must register with the TexARTS Academy Office in advance. For more information\, or to register please visit www.tex-arts.org or call 512-852-9079 x104
LOCATION:TexARTS Association 2300 Lohman's Spur STE 160 Austin\, TX 78734
UID:e.2123.10338
SEQUENCE:3
DTSTAMP:20260423T211957Z
URL:https://laketravischamberfest.com/events/details/dance-break-spring-break-musical-theater-dance-intensive-10338
END:VEVENT

END:VCALENDAR
