BEGIN:VCALENDAR
VERSION:2.0
PRODID:-//ChamberMaster//Event Calendar 2.0//EN
METHOD:PUBLISH
X-PUBLISHED-TTL:P3D
REFRESH-INTERVAL:P3D
CALSCALE:GREGORIAN
BEGIN:VEVENT
DTSTART:20171223T163000Z
DTEND:20171223T173000Z
X-MICROSOFT-CDO-ALLDAYEVENT:FALSE
SUMMARY:Dads and Donuts Story Time
DESCRIPTION:Dads and Donuts Story Time - Saturday\, December 23rd at 10:30am - Join us for a story time\, craft\, and donuts provided by Shipley Do-Nuts!
X-ALT-DESC;FMTTYPE=text/html:Dads and Donuts Story Time - Saturday\, December 23rd at 10:30am - Join us for a story time\, craft\, and donuts provided by Shipley Do-Nuts!
LOCATION:Lake Travis Community Library 1938 Lohmans Crossing Austin\, Texas 78734
UID:e.2123.9515
SEQUENCE:3
DTSTAMP:20260421T095755Z
URL:https://laketravischamberfest.com/events/details/dads-and-donuts-story-time-9515
END:VEVENT

END:VCALENDAR
