BEGIN:VCALENDAR
VERSION:2.0
PRODID:-//ChamberMaster//Event Calendar 2.0//EN
METHOD:PUBLISH
X-PUBLISHED-TTL:P3D
REFRESH-INTERVAL:P3D
CALSCALE:GREGORIAN
BEGIN:VEVENT
DTSTART:20180418T193000Z
DTEND:20180418T203000Z
X-MICROSOFT-CDO-ALLDAYEVENT:FALSE
SUMMARY:Cyber Security
DESCRIPTION:Cyber Security - Wednesday\, April 18th at 2:30pm - Learn how to keep your personal information safe with Tech Coach Bryan Smith.
X-ALT-DESC;FMTTYPE=text/html:Cyber Security - Wednesday\, April 18th at 2:30pm - Learn how to keep your personal information safe with Tech Coach Bryan Smith.
LOCATION:Lake Travis Community Library 1938 Lohmans Crossing Austin\, Texas 78735
UID:e.2123.9591
SEQUENCE:3
DTSTAMP:20260421T161419Z
URL:https://laketravischamberfest.com/events/details/cyber-security-04-18-2018-9591
END:VEVENT

END:VCALENDAR
