BEGIN:VCALENDAR
VERSION:2.0
PRODID:-//ChamberMaster//Event Calendar 2.0//EN
METHOD:PUBLISH
X-PUBLISHED-TTL:P3D
REFRESH-INTERVAL:P3D
CALSCALE:GREGORIAN
BEGIN:VEVENT
DTSTART:20230419T190000Z
DTEND:20230419T203000Z
X-MICROSOFT-CDO-ALLDAYEVENT:FALSE
SUMMARY:Conversations in Agining
DESCRIPTION:Join us for Lessons in Well-Being and Longevity from the Blue Zones presented by Carol Cummings\, BSN\, RN\, to hear about communities in different parts of the world where people live longer\, healthier and happier lives and learn how you can incorporate these healthy lifestyles as part of your well-being. Guest Speaker Tish Drozd Theatre Room Refreshments Healthy Smoothies
X-ALT-DESC;FMTTYPE=text/html:Join us for Lessons in Well-Being and Longevity from the Blue Zones presented by Carol Cummings\, BSN\, RN\, to hear about communities in different parts of the world where people live longer\, healthier and happier lives and learn how you can incorporate these healthy lifestyles as part of your well-being. Guest Speaker Tish Drozd Theatre Room Refreshments Healthy Smoothies
LOCATION:Brookdale Lakeway 1915 Lohmans Crossing Rd\, Lakeway\, TX 78734
UID:e.2123.11736
SEQUENCE:3
DTSTAMP:20260423T082605Z
URL:https://laketravischamberfest.com/events/details/conversations-in-agining-11736
END:VEVENT

END:VCALENDAR
