BEGIN:VCALENDAR
VERSION:2.0
PRODID:-//ChamberMaster//Event Calendar 2.0//EN
METHOD:PUBLISH
X-PUBLISHED-TTL:P3D
REFRESH-INTERVAL:P3D
CALSCALE:GREGORIAN
BEGIN:VEVENT
DTSTART:20210628T180000Z
DTEND:20210702T220000Z
X-MICROSOFT-CDO-ALLDAYEVENT:FALSE
SUMMARY:Conquering Your Audition
DESCRIPTION:Conquering You Audition Camp is a great resource for students getting ready to take the stage!  Students will learn basics such as what to wear\, what to look for in a headshot and resume\, and how to tailor their audition to the part they want.  They'll also receive personalized feedback on their audition materials and discuss how to film a great video audition. Ages 7-17
X-ALT-DESC;FMTTYPE=text/html:Conquering You Audition Camp is a great resource for students getting ready to take the stage!&nbsp\; Students will learn basics such as what to wear\, what to look for in a headshot and resume\, and how to tailor their audition to the part they want.&nbsp\; They&#39\;ll also receive personalized feedback on their audition materials and discuss how to film a great video audition.&nbsp\;Ages 7-17
LOCATION:TexARTS Association 2300 Lohman's Spur STE 160 Austin\, TX 78734
UID:e.2123.10904
SEQUENCE:3
DTSTAMP:20260424T012730Z
URL:https://laketravischamberfest.com/events/details/conquering-your-audition-10904
END:VEVENT

END:VCALENDAR
