BEGIN:VCALENDAR
VERSION:2.0
PRODID:-//ChamberMaster//Event Calendar 2.0//EN
METHOD:PUBLISH
X-PUBLISHED-TTL:P3D
REFRESH-INTERVAL:P3D
CALSCALE:GREGORIAN
BEGIN:VEVENT
DTSTART;VALUE=DATE:20190413
DTEND;VALUE=DATE:20190414
TRANSP:TRANSPARENT
X-MICROSOFT-CDO-ALLDAYEVENT:TRUE
SUMMARY:Con' Olio Grand Opening Party
DESCRIPTION:Con' Olio Oils & Vinegars\, Austin's first premium olive oil tasting bar\, is celebrating 10 years and the opening of a new flagship boutique in the bustling Bee Cave/Lakeway area. To mark the occasion\, owner and co-founder Tabatha Conarko is hosting a grand opening party featuring in-store specials and giveaways\, all day long on April 13\, to mark the occasion and from 3pm-5pm small bites from Paella\, Tapas and More and select wines from El Gaucho Winery will be served. Conarko focuses on offering ultra-fresh products and educating guests about extra virgin olive oil\, and her new store features a dedicated demo kitchen the only Con' Olio location to do so that allows patrons to take advantage of myriad classes and tasting events. The new location is at 3500 FM 620 S\, Suite F-400\, in the Gateway at Falconhead in Bee Cave.
X-ALT-DESC;FMTTYPE=text/html:Con&rsquo\; Olio Oils &amp\; Vinegars\, Austin&rsquo\;s first premium olive oil tasting bar\, is celebrating 10 years and the opening of a new flagship boutique in the bustling Bee Cave/Lakeway area. To mark the occasion\, owner and co-founder Tabatha Conarko is hosting a grand opening party featuring in-store specials and giveaways\, all day long on April 13\, to mark the occasion and from 3pm-5pm small bites from Paella\, Tapas and More and select wines from El Gaucho Winery will be served. Conarko focuses on offering ultra-fresh products and educating guests about extra virgin olive oil\, and her new store features a dedicated demo kitchen&mdash\;the only Con&rsquo\; Olio location to do so&mdash\;that allows patrons to take advantage of myriad classes and tasting events. The new location is at 3500 FM 620 S\, Suite F-400\, in the Gateway at Falconhead in Bee Cave.
LOCATION:3500 FM 620 S\, Suite F-400\, Bee Cave\, Texas\, 78738
UID:e.2123.9871
SEQUENCE:3
DTSTAMP:20260422T105709Z
URL:https://laketravischamberfest.com/events/details/con-olio-grand-opening-party-9871
END:VEVENT

END:VCALENDAR
