BEGIN:VCALENDAR
VERSION:2.0
PRODID:-//ChamberMaster//Event Calendar 2.0//EN
METHOD:PUBLISH
X-PUBLISHED-TTL:P3D
REFRESH-INTERVAL:P3D
CALSCALE:GREGORIAN
BEGIN:VEVENT
DTSTART:20180407T140000Z
DTEND:20180407T150000Z
X-MICROSOFT-CDO-ALLDAYEVENT:FALSE
SUMMARY:Community Workout: Camp Gladiator
DESCRIPTION:Community Workout - Saturday\, April 7th at 9am - Meet in the library parking lot to get fit at this free boot camp-style workout with Camp Gladiator trainer Cynthia Roten.
X-ALT-DESC;FMTTYPE=text/html:Community Workout - Saturday\, April 7th at 9am - Meet in the library parking lot to get fit at this free boot camp-style workout with Camp Gladiator trainer Cynthia Roten.
LOCATION:Lake Travis Community Library 1938 Lohmans Crossing Austin\, Texas 78735
UID:e.2123.9590
SEQUENCE:3
DTSTAMP:20260421T160633Z
URL:https://laketravischamberfest.com/events/details/community-workout-camp-gladiator-9590
END:VEVENT

END:VCALENDAR
