BEGIN:VCALENDAR
VERSION:2.0
PRODID:-//ChamberMaster//Event Calendar 2.0//EN
METHOD:PUBLISH
X-PUBLISHED-TTL:P3D
REFRESH-INTERVAL:P3D
CALSCALE:GREGORIAN
BEGIN:VEVENT
DTSTART:20230712T153000Z
DTEND:20230712T170000Z
X-MICROSOFT-CDO-ALLDAYEVENT:FALSE
SUMMARY:Communities Connected July Brunch
DESCRIPTION:Communities Connected joins our communities to continue a legacy of support for quality health care by providing financial resources to Baylor Scott & White Health. Come here from BSWHealth physicians behind the scenes and mingle with Lake Travis area ladies while you're at it! Contributors meet throughout the year to hear special remarks from Baylor Scott & White leadership and physicians. Individual annual gifts will be combined for greater impact of giving. At the end of each year\, contributors will meet to determine the project(s) they wish to support in their region. All philanthropic dollars given will support the selected regional project(s).
X-ALT-DESC;FMTTYPE=text/html:Communities Connected joins our communities to continue a legacy of support for quality health care by providing financial resources to Baylor Scott &amp\; White Health. Come here from BSWHealth physicians behind the scenes and mingle with Lake Travis area ladies while you&#39\;re at it! Contributors meet throughout the year to hear special remarks from Baylor Scott &amp\; White leadership and physicians. Individual annual gifts will be combined for greater impact of giving. At the end of each year\, contributors will meet to determine the project(s) they wish to support in their region. All philanthropic dollars given will support the selected regional project(s).
LOCATION:Sonesta Bee Cave 12525 Bee Cave Pkwy\, Bee Cave\, TX 78738
UID:e.2123.11760
SEQUENCE:3
DTSTAMP:20260423T040506Z
URL:https://laketravischamberfest.com/events/details/communities-connected-july-brunch-11760
END:VEVENT

END:VCALENDAR
