BEGIN:VCALENDAR
VERSION:2.0
PRODID:-//ChamberMaster//Event Calendar 2.0//EN
METHOD:PUBLISH
X-PUBLISHED-TTL:P3D
REFRESH-INTERVAL:P3D
CALSCALE:GREGORIAN
BEGIN:VEVENT
DTSTART:20191007T153000Z
DTEND:20191008T043000Z
X-MICROSOFT-CDO-ALLDAYEVENT:FALSE
SUMMARY:Communicating with Adult Children
DESCRIPTION:Communicating with Adult Children - Monday\, October 7th at 10:30am - Join Lake Travis Senior Services for a poignant and candid conversation concerning communicating with adult children as you age. Please visit ltseniorservices.org for more information.
X-ALT-DESC;FMTTYPE=text/html:Communicating with Adult Children - Monday\, October 7th at 10:30am - Join Lake Travis Senior Services for a poignant and candid conversation concerning communicating with adult children as you age. Please visit ltseniorservices.org for more information.
LOCATION:Lake Travis Community Library 1938 Lohmans Crossing Austin\, TX 78734
UID:e.2123.9994
SEQUENCE:3
DTSTAMP:20260422T194741Z
URL:https://laketravischamberfest.com/events/details/communicating-with-adult-children-9994
END:VEVENT

END:VCALENDAR
