BEGIN:VCALENDAR
VERSION:2.0
PRODID:-//ChamberMaster//Event Calendar 2.0//EN
METHOD:PUBLISH
X-PUBLISHED-TTL:P3D
REFRESH-INTERVAL:P3D
CALSCALE:GREGORIAN
BEGIN:VEVENT
DTSTART:20190918T230000Z
DTEND:20190919T003000Z
X-MICROSOFT-CDO-ALLDAYEVENT:FALSE
SUMMARY:Common Cent$
DESCRIPTION:Empower yourself with skills to successfully meet life's financial challenges. Open to all high school juniors\, seniors\, and recent graduates. Parents are also encouraged to attend. No charge\, pizza included. Hosted by the Rotary Club of Lakeway/Lake Travis. Please RSVP to jimgentil@aol.com.
X-ALT-DESC;FMTTYPE=text/html:Empower yourself with skills to successfully meet life&#39\;s financial challenges. Open to all high school juniors\, seniors\, and recent graduates. Parents are also encouraged to attend. No charge\, pizza included. Hosted by the Rotary Club of Lakeway/Lake Travis. Please RSVP to jimgentil@aol.com.
LOCATION:Lake Travis Community Library 1938 Lohmans Crossing Austin\, Texas 78734
UID:e.2123.9970
SEQUENCE:3
DTSTAMP:20260422T180950Z
URL:https://laketravischamberfest.com/events/details/common-cent-9970
END:VEVENT

END:VCALENDAR
