BEGIN:VCALENDAR
VERSION:2.0
PRODID:-//ChamberMaster//Event Calendar 2.0//EN
METHOD:PUBLISH
X-PUBLISHED-TTL:P3D
REFRESH-INTERVAL:P3D
CALSCALE:GREGORIAN
BEGIN:VEVENT
DTSTART:20171118T010000Z
DTEND:20171118T033000Z
X-MICROSOFT-CDO-ALLDAYEVENT:FALSE
SUMMARY:Collin Hauser and Stevie Jo Rosenbalm
DESCRIPTION:It'll be a "Singer-Songwriter Night" Friday\, Nov. 17 at the Spicewood Event Center when rising young stars Colllin Hauser and Stevie Jo Rosenbalm take the stage. These two accomplished performers perform extensively on tour and in the Dallas area. Rosenbalm was a critical and media favorite on the sixth season of The Voice. Collin\, a talented saxophonist and guitarist as well as a singer\, is releasing his first full-length album. Included in season tickets\, individual tickets are $40 each and may be purchased online at www.spicewoodarts.org or at the door. Light refreshments will be available at intermission and Spicewood Vineyards award-winning wines may be purchased. Please do not bring outside alcohol onto the vineyard grounds.
X-ALT-DESC;FMTTYPE=text/html:It&rsquo\;ll be a &ldquo\;Singer-Songwriter Night&rdquo\; Friday\, Nov. 17 at the Spicewood Event Center when rising young stars Colllin Hauser and Stevie Jo Rosenbalm take the stage. These two accomplished performers perform extensively on tour and in the Dallas area. Rosenbalm was a critical and media favorite on the sixth season of The Voice. Collin\, a talented saxophonist and guitarist as well as a singer\, is releasing his first full-length album. Included in season tickets\, individual tickets are $40 each and may be purchased online at www.spicewoodarts.org or at the door. Light refreshments will be available at intermission and Spicewood Vineyards award-winning wines may be purchased. Please do not bring outside alcohol onto the vineyard grounds.
LOCATION:Spicewood Vineyards Event Center 1419 Co. Rd. 409 Spicewood\, TX 78669
UID:e.2123.9506
SEQUENCE:3
DTSTAMP:20260421T081032Z
URL:https://laketravischamberfest.com/events/details/collin-hauser-and-stevie-jo-rosenbalm-9506
END:VEVENT

END:VCALENDAR
