BEGIN:VCALENDAR
VERSION:2.0
PRODID:-//ChamberMaster//Event Calendar 2.0//EN
METHOD:PUBLISH
X-PUBLISHED-TTL:P3D
REFRESH-INTERVAL:P3D
CALSCALE:GREGORIAN
BEGIN:VEVENT
DTSTART:20181105T163000Z
DTEND:20181105T173000Z
X-MICROSOFT-CDO-ALLDAYEVENT:FALSE
SUMMARY:Citizenship Lecture
DESCRIPTION:Citizenship Lecture - Monday\, November 5th at 10:30am - Presented by Tom Lockney\, this informative lecture will cover the topic of immigration and the path to naturalization.
X-ALT-DESC;FMTTYPE=text/html:Citizenship Lecture - Monday\, November 5th at 10:30am - Presented by Tom Lockney\, this informative lecture will cover the topic of immigration and the path to naturalization.
LOCATION:Lake Travis Community Library 1938 Lohmans Crossing Austin\, Texas 78734
UID:e.2123.9741
SEQUENCE:3
DTSTAMP:20260422T024234Z
URL:https://laketravischamberfest.com/events/details/citizenship-lecture-9741
END:VEVENT

END:VCALENDAR
