BEGIN:VCALENDAR
VERSION:2.0
PRODID:-//ChamberMaster//Event Calendar 2.0//EN
METHOD:PUBLISH
X-PUBLISHED-TTL:P3D
REFRESH-INTERVAL:P3D
CALSCALE:GREGORIAN
BEGIN:VEVENT
DTSTART:20181225T230000Z
DTEND:20181226T040000Z
X-MICROSOFT-CDO-ALLDAYEVENT:FALSE
SUMMARY:Christmas Dinner at Lakeway Resort and Spa's TR
DESCRIPTION:This Christmas\, guests are invited to celebrate the season with a specialty menu and dining experience overlooking Lake Travis at Lakeway Resort and Spa's TR. Offering timeless tastes made with locally sourced ingredients\, menu items include Lentil and Roasted Butternut Squash Soup\, Honey Smoked Ham\, Turkey and a specialty Texas Peach Cobbler for dessert. The Christmas menu is available Tuesday\, December 25th from 5 p.m. to 10 p.m. Adults dine for $35 per person and children ages 6-12 for $18 per person. Reservations can be made online at https://www.lakewayresortandspa.com/dining.aspx \, or by calling 844-822-2621
X-ALT-DESC;FMTTYPE=text/html:This Christmas\, guests are invited to celebrate the season with a specialty menu and dining experience overlooking Lake Travis at Lakeway Resort and Spa&rsquo\;s TR. Offering timeless tastes made with locally sourced ingredients\, menu items include Lentil and Roasted Butternut Squash Soup\, Honey Smoked Ham\, Turkey and a specialty Texas Peach Cobbler for dessert. The Christmas menu is available Tuesday\, December 25th from 5 p.m. to 10 p.m. Adults dine for $35 per person and children ages 6-12 for $18 per person. Reservations can be made online at https://www.lakewayresortandspa.com/dining.aspx \, or by calling 844-822-2621
LOCATION:Lakeway Resort and Spa 101 Lakeway Dr\, Lakeway\, TX 78734
UID:e.2123.9800
SEQUENCE:3
DTSTAMP:20260422T043159Z
URL:https://laketravischamberfest.com/events/details/christmas-dinner-at-lakeway-resort-and-spa-s-tr-9800
END:VEVENT

END:VCALENDAR
