BEGIN:VCALENDAR
VERSION:2.0
PRODID:-//ChamberMaster//Event Calendar 2.0//EN
METHOD:PUBLISH
X-PUBLISHED-TTL:P3D
REFRESH-INTERVAL:P3D
CALSCALE:GREGORIAN
BEGIN:VEVENT
DTSTART:20191207T170000Z
DTEND:20191207T220000Z
X-MICROSOFT-CDO-ALLDAYEVENT:FALSE
SUMMARY:Christmas Artisans Biz-arro
DESCRIPTION:Join us in our Christmas Artisans Biz-arro! Shop with some of our local talented artisans. Over 30 vendors will showcase their handmade\, one of a kind art pieces. Enjoy the live music on our unique outside stage. Sit by the fire pit and relax! Play games!
X-ALT-DESC;FMTTYPE=text/html:Join us in our Christmas Artisans Biz-arro! Shop with some of our local talented artisans. Over 30 vendors will showcase their handmade\, one of a kind art pieces. Enjoy the live music on our unique outside stage. Sit by the fire pit and relax! Play games!
LOCATION:7931 CR 404
UID:e.2123.10040
SEQUENCE:3
DTSTAMP:20260422T225807Z
URL:https://laketravischamberfest.com/events/details/christmas-artisans-biz-arro-10040
END:VEVENT

END:VCALENDAR
