BEGIN:VCALENDAR
VERSION:2.0
PRODID:-//ChamberMaster//Event Calendar 2.0//EN
METHOD:PUBLISH
X-PUBLISHED-TTL:P3D
REFRESH-INTERVAL:P3D
CALSCALE:GREGORIAN
BEGIN:VEVENT
DTSTART:20190805T140000Z
DTEND:20190809T200000Z
X-MICROSOFT-CDO-ALLDAYEVENT:FALSE
SUMMARY:Christian Youth Center
DESCRIPTION:Christian Youth Theater will be hosting a Theater Arts Camp at The Lakeway Church this summer! The camp is August 5th- 9th and is available for ages 8-15. Attendees will gain stronger skills in dance\, acting\, and voice while rehearsing and performing songs from The Greatest Showman and more! They'll play theater games\, make new friends\, and grow their talent! Showcase performance 3:30 pm on Friday
X-ALT-DESC;FMTTYPE=text/html:Christian Youth Theater will be hosting a Theater Arts Camp at The Lakeway Church this summer! The camp is August 5th- 9th and is available for ages 8-15. Attendees will gain stronger skills in dance\, acting\, and voice while rehearsing and performing songs from The Greatest Showman and more! They&rsquo\;ll play theater games\, make new friends\, and grow their talent! Showcase performance 3:30 pm on Friday
LOCATION:The Lakeway Church 2203 Lakeway Blvd. Lakeway\, TX 78734
UID:e.2123.9909
SEQUENCE:3
DTSTAMP:20260422T182747Z
URL:https://laketravischamberfest.com/events/details/christian-youth-center-9909
END:VEVENT

END:VCALENDAR
