BEGIN:VCALENDAR
VERSION:2.0
PRODID:-//ChamberMaster//Event Calendar 2.0//EN
METHOD:PUBLISH
X-PUBLISHED-TTL:P3D
REFRESH-INTERVAL:P3D
CALSCALE:GREGORIAN
BEGIN:VEVENT
DTSTART:20191211T003000Z
DTEND:20191211T013000Z
X-MICROSOFT-CDO-ALLDAYEVENT:FALSE
SUMMARY:Charge It Right - PeopleConnect
DESCRIPTION:Join us and Simmons Bank to learn how about credit and smart spending before the holidays. With the holiday season just around the corner\, it's more important than ever to learn strategies for smart spending. We'll have special guests from Simmons Bank to talk about the best uses of your credit cards and guide you through credit reports. You'll walk away with a deeper understanding of how to make your credit work for you.
X-ALT-DESC;FMTTYPE=text/html:Join us and Simmons Bank to learn how about credit and smart spending before the holidays. With the holiday season just around the corner\, it&rsquo\;s more important than ever to learn strategies for smart spending. We&rsquo\;ll have special guests from Simmons Bank to talk about the best uses of your credit cards and guide you through credit reports. You&rsquo\;ll walk away with a deeper understanding of how to make your credit work for you.
LOCATION:PeopleFund Austin | 2921 E. 17th Street Building D | Austin\, TX 78702
UID:e.2123.10038
SEQUENCE:3
DTSTAMP:20260422T225554Z
URL:https://laketravischamberfest.com/events/details/charge-it-right-peopleconnect-10038
END:VEVENT

END:VCALENDAR
