BEGIN:VCALENDAR
VERSION:2.0
PRODID:-//ChamberMaster//Event Calendar 2.0//EN
METHOD:PUBLISH
X-PUBLISHED-TTL:P3D
REFRESH-INTERVAL:P3D
CALSCALE:GREGORIAN
BEGIN:VEVENT
DTSTART:20200312T163000Z
DTEND:20200312T183000Z
X-MICROSOFT-CDO-ALLDAYEVENT:FALSE
SUMMARY:CELEBRATE THE RODEO WITH A CHUCK WAGON LUNCH AT FROST BANK LAKE TRAVIS
DESCRIPTION:Frost invites the community to welcome the return of Rodeo Austin by coming to Austin-area Frost financial centers for an old-fashion Chuck Wagon Breakfast or Lunch. A fiddler will perform live music. Veggie stew and brisket sliders with sides\, cobbler\, tea and coffee will be served. This is an annual tradition at Frost\, where dedication to the community has been part of the culture since the company began in 1868. These events are free and open to the public.
X-ALT-DESC;FMTTYPE=text/html:Frost invites the community to welcome the return of Rodeo Austin by coming to Austin-area Frost financial centers for an old-fashion Chuck Wagon Breakfast or Lunch. A fiddler will perform live music. Veggie stew and brisket sliders with sides\, cobbler\, tea and coffee will be served. This is an annual tradition at Frost\, where dedication to the community has been part of the culture since the company began in 1868. These events are free and open to the public.
LOCATION:Lake Travis Financial Center 12532 FM 2244 Bee Cave\, Texas 78738
UID:e.2123.10094
SEQUENCE:3
DTSTAMP:20260423T030713Z
URL:https://laketravischamberfest.com/events/details/celebrate-the-rodeo-with-a-chuck-wagon-lunch-at-frost-bank-lake-travis-10094
END:VEVENT

END:VCALENDAR
