BEGIN:VCALENDAR
VERSION:2.0
PRODID:-//ChamberMaster//Event Calendar 2.0//EN
METHOD:PUBLISH
X-PUBLISHED-TTL:P3D
REFRESH-INTERVAL:P3D
CALSCALE:GREGORIAN
BEGIN:VEVENT
DTSTART:20190328T160000Z
DTEND:20190328T180000Z
X-MICROSOFT-CDO-ALLDAYEVENT:FALSE
SUMMARY:Caregiver Connections
DESCRIPTION:Last Thursday of Every Month 11 AM   1 PM Caregiving is a difficult job and many of us struggle with the day-to-day challenges. Join us for Caregiver Connections\, a free\, monthly support group at Belmont Village Lakeway. We'll share successful caregiving approaches and discuss what works\, what doesn't\, and how you can care for yourself and your loved one during this challenging time. Lunch and refreshments will be provided.
X-ALT-DESC;FMTTYPE=text/html:Last Thursday of Every Month 11 AM &ndash\; 1 PM Caregiving is a difficult job and many of us struggle with the day-to-day challenges. Join us for Caregiver Connections\, a free\, monthly support group at Belmont Village Lakeway. We&rsquo\;ll share successful caregiving approaches and discuss what works\, what doesn&rsquo\;t\, and how you can care for yourself and your loved one during this challenging time. Lunch and refreshments will be provided.
LOCATION:Belmont Village Senior Living 107 Bella Montagna Circle Lakeway\, TX 78734
UID:e.2123.9853
SEQUENCE:3
DTSTAMP:20260422T091253Z
URL:https://laketravischamberfest.com/events/details/caregiver-connections-9853
END:VEVENT

END:VCALENDAR
