BEGIN:VCALENDAR
VERSION:2.0
PRODID:-//ChamberMaster//Event Calendar 2.0//EN
METHOD:PUBLISH
X-PUBLISHED-TTL:P3D
REFRESH-INTERVAL:P3D
CALSCALE:GREGORIAN
BEGIN:VEVENT
DTSTART:20191005T123000Z
DTEND:20191005T150000Z
X-MICROSOFT-CDO-ALLDAYEVENT:FALSE
SUMMARY:Buffalo Stampede Half Marathon and 5K
DESCRIPTION:Join us for the one-of-a-kind race along a scenic route in Bryan\, Texas on October 5th at 7:30am as the Brazos Valley Museum of Natural History hosts its 11th annual Buffalo Stampede! The race starts and ends at the Brazos Valley Museum's Boonville Days Festival. Runners of all ages are welcome to run and walk on these USATF certified courses. All runners earn a finisher medal\, free food\, and a t-shirt and are encouraged to stay for a post-race award ceremony! Save money by registering early online at http://bit.ly/BuffaloStampede19
X-ALT-DESC;FMTTYPE=text/html:Join us for the one-of-a-kind race along a scenic route in Bryan\, Texas on October 5th at 7:30am as the Brazos Valley Museum of Natural History hosts its 11th annual Buffalo Stampede! The race starts and ends at the Brazos Valley Museum&#39\;s Boonville Days Festival. Runners of all ages are welcome to run and walk on these USATF certified courses. All runners earn a finisher medal\, free food\, and a t-shirt and are encouraged to stay for a post-race award ceremony! Save money by registering early online at http://bit.ly/BuffaloStampede19
LOCATION:Brazos Valley Museum of Natural History 3232 Briarcrest Dr. Bryan\, TX 77802
UID:e.2123.9834
SEQUENCE:3
DTSTAMP:20260422T194913Z
URL:https://laketravischamberfest.com/events/details/buffalo-stampede-half-marathon-and-5k-10-05-2019-9834
END:VEVENT

END:VCALENDAR
