BEGIN:VCALENDAR
VERSION:2.0
PRODID:-//ChamberMaster//Event Calendar 2.0//EN
METHOD:PUBLISH
X-PUBLISHED-TTL:P3D
REFRESH-INTERVAL:P3D
CALSCALE:GREGORIAN
BEGIN:VEVENT
DTSTART:20210719T183000Z
DTEND:20210723T213000Z
X-MICROSOFT-CDO-ALLDAYEVENT:FALSE
SUMMARY:Broadway Master Class
DESCRIPTION:This workshop is geared towards our students with a strong passion for the performing arts. Students will study the three disciplines of musical theatre - acting\, voice and dance and dive into such subjects as song interpretation\, vocal technique\, scene study\, monologue performance\, and dance.
X-ALT-DESC;FMTTYPE=text/html:This workshop is geared towards our students with a strong passion for the performing arts. Students will study the three disciplines of musical theatre - acting\, voice and dance and dive into such subjects as song interpretation\, vocal technique\, scene study\, monologue performance\, and dance.
LOCATION:TexARTS Association 2300 Lohman's Spur Rd STE 160 Lakeway\, TX 78734
UID:e.2123.10362
SEQUENCE:3
DTSTAMP:20260424T024820Z
URL:https://laketravischamberfest.com/events/details/broadway-master-class-10362
END:VEVENT

END:VCALENDAR
