BEGIN:VCALENDAR
VERSION:2.0
PRODID:-//ChamberMaster//Event Calendar 2.0//EN
METHOD:PUBLISH
X-PUBLISHED-TTL:P3D
REFRESH-INTERVAL:P3D
CALSCALE:GREGORIAN
BEGIN:VEVENT
DTSTART:20181026T163000Z
DTEND:20181026T183000Z
X-MICROSOFT-CDO-ALLDAYEVENT:FALSE
SUMMARY:Breast Cancer Survivor Brunch
DESCRIPTION:Join us for brunch on our terrace honoring breast cancer survivors and their families. Meet fellow survivors\, enjoy live jazz music and discover the tastes of Belmont Village with a brunch specially prepared by our chef. RSVP to the concierge at 512-402-1800.
X-ALT-DESC;FMTTYPE=text/html:Join us for brunch on our terrace honoring breast cancer survivors and their families. Meet fellow survivors\, enjoy live jazz music and discover the tastes of Belmont Village with a brunch specially prepared by our chef. RSVP to the concierge at 512-402-1800.
LOCATION:Belmont Village Senior Living - Lakeway
UID:e.2123.9749
SEQUENCE:3
DTSTAMP:20260422T010813Z
URL:https://laketravischamberfest.com/events/details/breast-cancer-survivor-brunch-9749
END:VEVENT

END:VCALENDAR
