BEGIN:VCALENDAR
VERSION:2.0
PRODID:-//ChamberMaster//Event Calendar 2.0//EN
METHOD:PUBLISH
X-PUBLISHED-TTL:P3D
REFRESH-INTERVAL:P3D
CALSCALE:GREGORIAN
BEGIN:VEVENT
DTSTART:20180920T130000Z
DTEND:20180920T150000Z
X-MICROSOFT-CDO-ALLDAYEVENT:FALSE
SUMMARY:Breakfast with the Verizon Team
DESCRIPTION:Join us at the newest corporate store in the area for breakfast. Come meet our team and let us show you how we can help connect your business!
X-ALT-DESC;FMTTYPE=text/html:Join us at the newest corporate store in the area for breakfast. Come meet our team and let us show you how we can help connect your business!
LOCATION:12532 FM 2244 Bldg 2 Ste 120 Bee Cave\, TX 78738
UID:e.2123.9726
SEQUENCE:3
DTSTAMP:20260421T233047Z
URL:https://laketravischamberfest.com/events/details/breakfast-with-the-verizon-team-9726
END:VEVENT

END:VCALENDAR
