BEGIN:VCALENDAR
VERSION:2.0
PRODID:-//ChamberMaster//Event Calendar 2.0//EN
METHOD:PUBLISH
X-PUBLISHED-TTL:P3D
REFRESH-INTERVAL:P3D
CALSCALE:GREGORIAN
BEGIN:VEVENT
DTSTART:20220224T143000Z
DTEND:20220224T160000Z
X-MICROSOFT-CDO-ALLDAYEVENT:FALSE
SUMMARY:Breakfast Builder & Ribbon Cutting R19 Taqueria
DESCRIPTION:Join us for R19 Taqueria Breakfast Builder and Ribbon Cutting. We look forward to having Chef Christopher Haydostian and Chef Esdras Ochoa create great bites for everyone before heading off to tackle the day! We will also be hosting a Ribbon cutting with colleagues\, friends and fans towards the end of the morning.
X-ALT-DESC;FMTTYPE=text/html:Join us for R19 Taqueria Breakfast Builder and Ribbon Cutting. We look forward to having C<span style="font-family: Lato\, Helvetica\, Arial\, sans-serif\; font-size: 14px\;">hef Christopher Haydostian and Chef Esdras Ochoa create great bites for everyone before heading off to tackle the day! We will also be hosting a Ribbon cutting with colleagues\, friends and fans towards the end of the morning.&nbsp\;</span>
LOCATION:2422 Ranch Rd 620 S A-120\, Austin\, TX 78738
UID:e.2123.11080
SEQUENCE:3
DTSTAMP:20260424T031019Z
URL:https://laketravischamberfest.com/events/details/breakfast-builder-ribbon-cutting-r19-taqueria-11080
END:VEVENT

END:VCALENDAR
