BEGIN:VCALENDAR
VERSION:2.0
PRODID:-//ChamberMaster//Event Calendar 2.0//EN
METHOD:PUBLISH
X-PUBLISHED-TTL:P3D
REFRESH-INTERVAL:P3D
CALSCALE:GREGORIAN
BEGIN:VEVENT
DTSTART:20220324T133000Z
DTEND:20220324T150000Z
X-MICROSOFT-CDO-ALLDAYEVENT:FALSE
SUMMARY:Breakfast Builder at Tiny Pies
DESCRIPTION:Tiny Pies will be hosting and sponsoring us at their new Lakeway Location. We will also host a ribbon cutting at 9:30 to welcome them to the Lake Travis Chamber community! Come enjoy their handmade pies\, baked from homemade recipes.
X-ALT-DESC;FMTTYPE=text/html:Tiny Pies will be hosting and sponsoring us at their new Lakeway Location. We will also host a ribbon cutting at 9:30 to welcome them to the Lake Travis Chamber community! Come enjoy their handmade pies\, baked from homemade recipes.
LOCATION:2125 Lohmans Crossing Rd\, Lakeway\, TX 78734
UID:e.2123.11112
SEQUENCE:3
DTSTAMP:20260424T014816Z
URL:https://laketravischamberfest.com/events/details/breakfast-builder-at-tiny-pies-11112
END:VEVENT

END:VCALENDAR
