BEGIN:VCALENDAR
VERSION:2.0
PRODID:-//ChamberMaster//Event Calendar 2.0//EN
METHOD:PUBLISH
X-PUBLISHED-TTL:P3D
REFRESH-INTERVAL:P3D
CALSCALE:GREGORIAN
BEGIN:VEVENT
DTSTART:20220728T133000Z
DTEND:20220728T150000Z
X-MICROSOFT-CDO-ALLDAYEVENT:FALSE
SUMMARY:Breakfast Builder
DESCRIPTION:TBD
X-ALT-DESC;FMTTYPE=text/html:TBD&nbsp\;&nbsp\;&nbsp\;&nbsp\;
LOCATION:TBD
UID:e.2123.11098
SEQUENCE:3
DTSTAMP:20260423T204006Z
URL:https://laketravischamberfest.com/events/details/breakfast-builder-11098
END:VEVENT

END:VCALENDAR
