BEGIN:VCALENDAR
VERSION:2.0
PRODID:-//ChamberMaster//Event Calendar 2.0//EN
METHOD:PUBLISH
X-PUBLISHED-TTL:P3D
REFRESH-INTERVAL:P3D
CALSCALE:GREGORIAN
BEGIN:VEVENT
DTSTART:20240119T150000Z
DTEND:20240119T220000Z
X-MICROSOFT-CDO-ALLDAYEVENT:FALSE
SUMMARY:Board Retreat
DESCRIPTION:The January Lake Travis Chamber Board of Directors Retreat will be held January 19\, 2024.\n\n\n\n\n\n*This is a board member ONLY meeting
X-ALT-DESC;FMTTYPE=text/html:<p -webkit-text-stroke-color:="" -webkit-text-stroke-width:="" color:="" new="" style="margin: 0px\; font-stretch: normal\; font-size: 12px\; line-height: normal\; font-family: " times=""><span style="font-kerning: none">The January Lake Travis Chamber Board of Directors Retreat will be held January 19\, 2024.</span><br />\n<br />\n<br />\n<span style="font-kerning: none">*This is a board member ONLY meeting</span></p>\n\n<p -webkit-text-stroke-color:="" -webkit-text-stroke-width:="" color:="" new="" style="margin: 0px\; font-stretch: normal\; font-size: 12px\; line-height: normal\; font-family: " times="">&nbsp\;</p>\n
LOCATION:Hotel Viata
UID:e.2123.11183
SEQUENCE:3
DTSTAMP:20260422T191856Z
URL:https://laketravischamberfest.com/events/details/board-retreat-11183
END:VEVENT

END:VCALENDAR
