BEGIN:VCALENDAR
VERSION:2.0
PRODID:-//ChamberMaster//Event Calendar 2.0//EN
METHOD:PUBLISH
X-PUBLISHED-TTL:P3D
REFRESH-INTERVAL:P3D
CALSCALE:GREGORIAN
BEGIN:VEVENT
DTSTART;VALUE=DATE:20241022
DTEND;VALUE=DATE:20241023
TRANSP:TRANSPARENT
X-MICROSOFT-CDO-ALLDAYEVENT:TRUE
SUMMARY:Board Nominations OPEN
DESCRIPTION:The Nominations Committee has been created\, and are seeking members who would like to serve and be involved on the LTCC Board of Directors. There are several ways to be involved in your Chamber   committees\, events\, Ambassadors\, and board service whether you are a new or long-time member.\n\n \n\nNominations will close at 6 pm on November 15th.\n\nFill out your nominations HERE\n\nOr Send Your Nominations to info@laketravischamber.com
X-ALT-DESC;FMTTYPE=text/html:<p class="p1"><span class="s1">The Nominations Committee has been created\, and are seeking members who would like to serve and be involved on the LTCC Board of Directors. </span><span class="s1">There are several ways to be involved in your Chamber &ndash\; committees\, events\, Ambassadors\, and board service w</span><span class="s1">hether you are a new or long-time member.</span></p>\n\n<p>&nbsp\;</p>\n\n<p>Nominations will close at 6 pm on November 15th.</p>\n\n<p><strong>Fill out your nominations HERE<br />\nOr Send Your Nominations to <a href="mailto:info@laketravischamber.com">info@laketravischamber.com</a></strong></p>\n
LOCATION:
UID:e.2123.12758
SEQUENCE:3
DTSTAMP:20260422T054947Z
URL:https://laketravischamberfest.com/events/details/board-nominations-open-12758
END:VEVENT

END:VCALENDAR
