BEGIN:VCALENDAR
VERSION:2.0
PRODID:-//ChamberMaster//Event Calendar 2.0//EN
METHOD:PUBLISH
X-PUBLISHED-TTL:P3D
REFRESH-INTERVAL:P3D
CALSCALE:GREGORIAN
BEGIN:VEVENT
DTSTART:20181027T150000Z
DTEND:20181027T180000Z
X-MICROSOFT-CDO-ALLDAYEVENT:FALSE
SUMMARY:Blast from the Past Car Parade & Exhibit
DESCRIPTION:Blast from the Past Car Parade & Exhibit Featuring the Road Relics Antique Car Club Saturday\, October 27th\, 2018 10AM-1PM Car parade begins at 10:30 AM Belmont Village Senior Living 4310 Bee Cave Rd. West Lake Hills\, TX 78746 Join us for a car parade and exhibit with a 50's twist! Meet car club drivers\, enjoy burgers and fries from our retro diner\, and boogie to live music. We're getting nostalgic with hula-hoop\, bubble-blowing\, and name-that-tune contests\, too! https://www.belmontvillage.com/locations/west-lake-hills-austin-texas/ RSVP to Peg Bulger at 512-347-1700 Contact: Jamie Smithson @ 512-347-1700\; email: events@wlh.com
X-ALT-DESC;FMTTYPE=text/html:Blast from the Past Car Parade &amp\; Exhibit Featuring the Road Relics Antique Car Club Saturday\, October 27th\, 2018 10AM-1PM Car parade begins at 10:30 AM Belmont Village Senior Living 4310 Bee Cave Rd. West Lake Hills\, TX 78746 Join us for a car parade and exhibit with a 50&rsquo\;s twist! Meet car club drivers\, enjoy burgers and fries from our retro diner\, and boogie to live music. We&rsquo\;re getting nostalgic with hula-hoop\, bubble-blowing\, and name-that-tune contests\, too! https://www.belmontvillage.com/locations/west-lake-hills-austin-texas/ RSVP to Peg Bulger at 512-347-1700 Contact: Jamie Smithson @ 512-347-1700\; email: events@wlh.com
LOCATION:Belmont Village Senior Living - West Lake Hills 4310 Bee Cave Rd. Westlake Hills\, Tx 78746
UID:e.2123.9739
SEQUENCE:3
DTSTAMP:20260422T024519Z
URL:https://laketravischamberfest.com/events/details/blast-from-the-past-car-parade-exhibit-9739
END:VEVENT

END:VCALENDAR
